BEGIN:VCALENDAR
VERSION:2.0
PRODID:-//NADI Kg Tanjung Bundung - ECPv6.15.13.1//NONSGML v1.0//EN
CALSCALE:GREGORIAN
METHOD:PUBLISH
X-WR-CALNAME:NADI Kg Tanjung Bundung
X-ORIGINAL-URL:https://kgtgbundung.nadi.my
X-WR-CALDESC:Events for NADI Kg Tanjung Bundung
REFRESH-INTERVAL;VALUE=DURATION:PT1H
X-Robots-Tag:noindex
X-PUBLISHED-TTL:PT1H
BEGIN:VTIMEZONE
TZID:Asia/Kuala_Lumpur
BEGIN:STANDARD
TZOFFSETFROM:+0800
TZOFFSETTO:+0800
TZNAME:+08
DTSTART:20240101T000000
END:STANDARD
END:VTIMEZONE
BEGIN:VEVENT
DTSTART;TZID=Asia/Kuala_Lumpur:20251127T080000
DTEND;TZID=Asia/Kuala_Lumpur:20251130T170000
DTSTAMP:20260420T125834
CREATED:20251127T072518Z
LAST-MODIFIED:20251127T072518Z
UID:3999-1764230400-1764522000@kgtgbundung.nadi.my
SUMMARY:PROGRAM NADI – MINGGU KE-4 (27–30 NOVEMBER 2025)
DESCRIPTION:PROGRAM NADI – MINGGU KE-4 (27–30 NOVEMBER 2025)\nJom sertai pelbagai program menarik sepanjang minggu terakhir November ini! Program meliputi pendidikan\, kesihatan\, kemahiran\, e-sports serta pembangunan komuniti. Semua lapisan umur dialu-alukan! \n\n📅 27 NOVEMBER 2025\n🔹 DILEA – Open Tuition Ting. 1–5 & PA Ting. 6 Atas\, VOD Revision Video 17🔹 Wellbeing – Podcast: Ibu Anak Lelaki Autistik🔹 Mahir – Kelas Jahit\, Gajet\, Masak & Pertanian Pintar \n\n📅 28 NOVEMBER 2025\n🔹 DILEA – VOD Revision Video 17🔹 Wellbeing – Webinar: Pembedahan Bariatrik🔹 Mahir – Kelas Masak\, Foto\, Jahit & Gajet🔹 E-sports – Awareness Class & Webinar \n\n📅 29 NOVEMBER 2025\n🔹 DILEA – Webinar Berkala MT Edisi 5\, VOD Revision Video 17🔹 Wellbeing – Physical: Train Like a Champion🔹 E-sports – Awareness Class🔹 Kidventure Cohort 8 – Webinar Operasi Perniagaan \n\n📅 30 NOVEMBER 2025\n🔹 DILEA – VOD Revision Video 17🔹 Wellbeing – REACH General Screening @ NADI Bota🔹 E-sports – Awareness Class \n\n🌐 Program Tambahan (Sepanjang Minggu)\n📺 Siaran Ulangan Kempen Internet Selamat“Jenayah Bermula di Skrin: Peranan Kita Dalam Mencegah Pengaruh Negatif Dunia Maya”
URL:https://kgtgbundung.nadi.my/event/program-nadi-minggu-ke-4-27-30-november-2025/
END:VEVENT
END:VCALENDAR