BEGIN:VCALENDAR
VERSION:2.0
PRODID:-//NADI Kg Tanjung Bundung - ECPv6.15.13.1//NONSGML v1.0//EN
CALSCALE:GREGORIAN
METHOD:PUBLISH
X-WR-CALNAME:NADI Kg Tanjung Bundung
X-ORIGINAL-URL:https://kgtgbundung.nadi.my
X-WR-CALDESC:Events for NADI Kg Tanjung Bundung
REFRESH-INTERVAL;VALUE=DURATION:PT1H
X-Robots-Tag:noindex
X-PUBLISHED-TTL:PT1H
BEGIN:VTIMEZONE
TZID:Asia/Kuala_Lumpur
BEGIN:STANDARD
TZOFFSETFROM:+0800
TZOFFSETTO:+0800
TZNAME:+08
DTSTART:20250101T000000
END:STANDARD
END:VTIMEZONE
BEGIN:VEVENT
DTSTART;TZID=Asia/Kuala_Lumpur:20260120T100000
DTEND;TZID=Asia/Kuala_Lumpur:20260120T110000
DTSTAMP:20260420T122053
CREATED:20260121T004436Z
LAST-MODIFIED:20260121T004436Z
UID:4110-1768903200-1768906800@kgtgbundung.nadi.my
SUMMARY:𝗪𝗘𝗕𝗜𝗡𝗔𝗥 𝗡𝗔𝗗𝗜 𝗡𝗨𝗥𝗧𝗨𝗥𝗘 𝗲𝗞𝗘𝗟𝗔𝗦 𝗨𝗦𝗔𝗛𝗔𝗪𝗔𝗡
DESCRIPTION:Modul 1: Strategi Pemasaran Digital \n🗓️ Selasa\, 20 Januari 2026\n🕙 10:00 pagi – 11:00 pagi\n📍 Zoom\n🔗 Daftar: bit.ly/eku200126am
URL:https://kgtgbundung.nadi.my/event/%f0%9d%97%aa%f0%9d%97%98%f0%9d%97%95%f0%9d%97%9c%f0%9d%97%a1%f0%9d%97%94%f0%9d%97%a5-%f0%9d%97%a1%f0%9d%97%94%f0%9d%97%97%f0%9d%97%9c-%f0%9d%97%a1%f0%9d%97%a8%f0%9d%97%a5%f0%9d%97%a7%f0%9d%97%a8/
END:VEVENT
END:VCALENDAR